BEGIN:VCALENDAR
VERSION:2.0
PRODID:-//keepmassbeautiful.org//NONSGML kigkonsult.se iCalcreator 2.30.10/
 /
CALSCALE:GREGORIAN
METHOD:PUBLISH
UID:9d3bd05d-136d-4e49-9c07-e0e155ea1e1c
X-WR-CALDESC:Join us and over 1\,000 volunteers celebrating Earth Day by wo
 rking to keep Worcester a clean\, healthy\, and beautiful place to live\, 
 work\, and play. Sign up as a Site Coordinator and organize a group to par
 ticipate or register as a Volunteer to lend a hand at an existing site. \n
 \nCleanups take place at over 70 sites throughout Worcester. If you would 
 like to register your own site\, please sign up as a Site Coordinator on o
 ur website.
X-WR-RELCALID:ff91dddf8660e61600d8e2fb36539e18
X-WR-TIMEZONE:America/New_York
BEGIN:VTIMEZONE
TZID:America/New_York
BEGIN:STANDARD
TZNAME:EST
DTSTART:20241103T020000
TZOFFSETFROM:-0400
TZOFFSETTO:-0500
RDATE:20251102T020000
END:STANDARD
BEGIN:DAYLIGHT
TZNAME:EDT
DTSTART:20250309T020000
TZOFFSETFROM:-0500
TZOFFSETTO:-0400
RDATE:20260308T020000
END:DAYLIGHT
END:VTIMEZONE
BEGIN:VEVENT
UID:5d401260-2808-4a0f-a9a0-97d3c157ad90
DTSTAMP:20260420T125826Z
DESCRIPTION:Join us and over 1\,000 volunteers celebrating Earth Day by wor
 king to keep Worcester a clean\, healthy\, and beautiful place to live\, w
 ork\, and play. Sign up as a Site Coordinator and organize a group to part
 icipate or register as a Volunteer to lend a hand at an existing site. \n
 \nCleanups take place at over 70 sites throughout Worcester. If you would 
 like to register your own site\, please sign up as a Site Coordinator on o
 ur website.
DTSTART;TZID=America/New_York:20250426T080000
DTEND;TZID=America/New_York:20250426T120000
LOCATION:Worcester\, MA
SUMMARY:REC's 35th Annual Earth Day Cleanup (Worcester)
END:VEVENT
END:VCALENDAR
