BEGIN:VCALENDAR
VERSION:2.0
PRODID:-//keepmassbeautiful.org//NONSGML kigkonsult.se iCalcreator 2.30.10/
 /
CALSCALE:GREGORIAN
METHOD:PUBLISH
UID:bdc43a58-0645-4af3-9590-8d8f2bb4d585
X-WR-CALDESC:‘Shake the Frost’-take part in a Town Wide cleanup of our road
 ways\, woods\, neighborhoods… wherever trash has found its way\, that it d
 oesn’t belong!\n\nWhile this is an invitation for an on-going initiative t
 hrough the month of April\, we will specifically be hosting a trash pickup
  and drop off event Saturday\, April 26th.\n\nThe Douglas Public Library w
 ill have birdhouse painting and lunch ALL FREE! Thanks to Lindsay Sarah Re
 alty!\nDouglas PTO is offering a special family friendly clean up opportun
 ity of the DPS and DES grounds.\n\nDouglas Picnic at the Park is hosting a
  sensory friendly clean up event at Martin Road Park\n\nMany other busines
 ses will be open and welcoming all our volunteers to join in on some great
  treats\, food and drinks.\n\nThis event is RAIN OR SHINE. Safety Vests\, 
 Trash Bags & Pickers\, & Gloves available 4/26. Collected trash can be dro
 pped at the Douglas Highway Garage-at the event set up.\n\nThis is a great
  opportunity for local groups and sports teams to work together to contrib
 ute time to their community! Students that need volunteer hours are welcom
 e! We've had a great youth turnout in the last few years.\n\nMeet up locat
 ion: 56 Main St Douglas MA 01516 \n
X-WR-RELCALID:fa9c90195d6a84d589d5b3c0b6d1250f
X-WR-TIMEZONE:America/New_York
BEGIN:VTIMEZONE
TZID:America/New_York
BEGIN:STANDARD
TZNAME:EST
DTSTART:20241103T020000
TZOFFSETFROM:-0400
TZOFFSETTO:-0500
RDATE:20251102T020000
END:STANDARD
BEGIN:DAYLIGHT
TZNAME:EDT
DTSTART:20250309T020000
TZOFFSETFROM:-0500
TZOFFSETTO:-0400
RDATE:20260308T020000
END:DAYLIGHT
END:VTIMEZONE
BEGIN:VEVENT
UID:f43582db-e71e-4c12-998f-7755b491a284
DTSTAMP:20260420T130349Z
DESCRIPTION:‘Shake the Frost’-take part in a Town Wide cleanup of our roadw
 ays\, woods\, neighborhoods… wherever trash has found its way\, that it do
 esn’t belong!\n\nWhile this is an invitation for an on-going initiative th
 rough the month of April\, we will specifically be hosting a trash pickup 
 and drop off event Saturday\, April 26th.\n\nThe Douglas Public Library wi
 ll have birdhouse painting and lunch ALL FREE! Thanks to Lindsay Sarah Rea
 lty!\nDouglas PTO is offering a special family friendly clean up opportuni
 ty of the DPS and DES grounds.\n\nDouglas Picnic at the Park is hosting a 
 sensory friendly clean up event at Martin Road Park\n\nMany other business
 es will be open and welcoming all our volunteers to join in on some great 
 treats\, food and drinks.\n\nThis event is RAIN OR SHINE. Safety Vests\, T
 rash Bags & Pickers\, & Gloves available 4/26. Collected trash can be drop
 ped at the Douglas Highway Garage-at the event set up.\n\nThis is a great 
 opportunity for local groups and sports teams to work together to contribu
 te time to their community! Students that need volunteer hours are welcome
 ! We've had a great youth turnout in the last few years.\n\nMeet up locati
 on: 56 Main St Douglas MA 01516 \n
DTSTART;TZID=America/New_York:20250426T080000
DTEND;TZID=America/New_York:20250426T140000
LOCATION:Douglas\, MA
SUMMARY:Shake the Frost Douglas Town Wide Cleanup
END:VEVENT
END:VCALENDAR
