BEGIN:VCALENDAR
VERSION:2.0
PRODID:-//keepmassbeautiful.org//NONSGML kigkonsult.se iCalcreator 2.30.10/
 /
CALSCALE:GREGORIAN
METHOD:PUBLISH
UID:40d5cc61-172b-440c-a7ed-e46ec6138deb
X-WR-CALDESC:Join Keep Stoneham Beautiful for the fourth annual Spring Clea
 nup and Earth Day Celebration. We'll meet at the Town Common to pick up su
 pplies and for a group picture before heading out to pick up litter at des
 ignated areas around town. We'll then meet back at the Common to celebrate
  Earth Day together with food\, music\, treats\, kids' activities\, educat
 ional tables and more. \n\nMeet up at Stoneham Town Common
X-WR-RELCALID:2b0433db0d684ad239ba6f7437f38bea
X-WR-TIMEZONE:America/New_York
BEGIN:VTIMEZONE
TZID:America/New_York
BEGIN:STANDARD
TZNAME:EST
DTSTART:20241103T020000
TZOFFSETFROM:-0400
TZOFFSETTO:-0500
RDATE:20251102T020000
END:STANDARD
BEGIN:DAYLIGHT
TZNAME:EDT
DTSTART:20250309T020000
TZOFFSETFROM:-0500
TZOFFSETTO:-0400
RDATE:20260308T020000
END:DAYLIGHT
END:VTIMEZONE
BEGIN:VEVENT
UID:f2972563-9f7e-4246-8122-750de61856a3
DTSTAMP:20260420T123818Z
DESCRIPTION:Join Keep Stoneham Beautiful for the fourth annual Spring Clean
 up and Earth Day Celebration. We'll meet at the Town Common to pick up sup
 plies and for a group picture before heading out to pick up litter at desi
 gnated areas around town. We'll then meet back at the Common to celebrate 
 Earth Day together with food\, music\, treats\, kids' activities\, educati
 onal tables and more. \n\nMeet up at Stoneham Town Common
DTSTART;TZID=America/New_York:20250426T100000
DTEND;TZID=America/New_York:20250426T130000
LOCATION:Stoneham\, MA
SUMMARY:Stoneham Spring Cleanup & Earth Day Celebration
END:VEVENT
END:VCALENDAR
