BEGIN:VCALENDAR
VERSION:2.0
PRODID:-//keepmassbeautiful.org//NONSGML kigkonsult.se iCalcreator 2.30.10/
 /
CALSCALE:GREGORIAN
METHOD:PUBLISH
UID:994181f6-5f3f-478d-a65f-ac6933dbec74
X-WR-CALDESC:Clean Up around Taunton. Select an area to clean or be assigne
 d to an area! Concentrating on cleaning up the railroad tracks through Tau
 nton. \n\nMeet up location: Parking Lot behind City Hall\, 33 Summer Stree
 t\, Taunton\, MA
X-WR-RELCALID:7a0c570e80fcc5e17451115349d4a30c
X-WR-TIMEZONE:America/New_York
BEGIN:VTIMEZONE
TZID:America/New_York
BEGIN:STANDARD
TZNAME:EST
DTSTART:20241103T020000
TZOFFSETFROM:-0400
TZOFFSETTO:-0500
RDATE:20251102T020000
END:STANDARD
BEGIN:DAYLIGHT
TZNAME:EDT
DTSTART:20250309T020000
TZOFFSETFROM:-0500
TZOFFSETTO:-0400
RDATE:20260308T020000
END:DAYLIGHT
END:VTIMEZONE
BEGIN:VEVENT
UID:c91a9cb6-8ee6-4040-8378-69b5987d3da4
DTSTAMP:20260420T125200Z
DESCRIPTION:Clean Up around Taunton. Select an area to clean or be assigned
  to an area! Concentrating on cleaning up the railroad tracks through Taun
 ton. \n\nMeet up location: Parking Lot behind City Hall\, 33 Summer Street
 \, Taunton\, MA
DTSTART;TZID=America/New_York:20250426T080000
DTEND;TZID=America/New_York:20250426T120000
LOCATION:Taunton\, MA
SUMMARY:Taunton Ecology Awareness Movement
END:VEVENT
END:VCALENDAR
