BEGIN:VCALENDAR
VERSION:2.0
PRODID:-//keepmassbeautiful.org//NONSGML kigkonsult.se iCalcreator 2.30.10/
 /
CALSCALE:GREGORIAN
METHOD:PUBLISH
UID:4c2beac8-60c1-4417-a9f4-b16529559c3a
X-WR-CALDESC:Sign up to specify which streets\, fields\, parks or trails yo
 u and your group will pick up at greenhudson.org \n\nRain Date: Sunday\, A
 pril 27th\n\nMeet up location: Rimkus Clubhouse at Riverside Park (off of 
 Chapin Road)
X-WR-RELCALID:176928393f514f94b2500ad379f5102f
X-WR-TIMEZONE:America/New_York
BEGIN:VTIMEZONE
TZID:America/New_York
BEGIN:STANDARD
TZNAME:EST
DTSTART:20241103T020000
TZOFFSETFROM:-0400
TZOFFSETTO:-0500
RDATE:20251102T020000
END:STANDARD
BEGIN:DAYLIGHT
TZNAME:EDT
DTSTART:20250309T020000
TZOFFSETFROM:-0500
TZOFFSETTO:-0400
RDATE:20260308T020000
END:DAYLIGHT
END:VTIMEZONE
BEGIN:VEVENT
UID:6bb60e26-6e3c-4167-8336-203959cd0d87
DTSTAMP:20260420T125816Z
DESCRIPTION:Sign up to specify which streets\, fields\, parks or trails you
  and your group will pick up at greenhudson.org \n\nRain Date: Sunday\, Ap
 ril 27th\n\nMeet up location: Rimkus Clubhouse at Riverside Park (off of C
 hapin Road)
DTSTART;TZID=America/New_York:20250426T090000
DTEND;TZID=America/New_York:20250426T150000
LOCATION:Hudson\, MA
SUMMARY:Town-wide Cleanup Day (Hudson)
END:VEVENT
END:VCALENDAR
