BEGIN:VCALENDAR
VERSION:2.0
PRODID:-//keepmassbeautiful.org//NONSGML kigkonsult.se iCalcreator 2.30.10/
 /
CALSCALE:GREGORIAN
METHOD:PUBLISH
UID:b5c5cca3-f5c6-49db-80c2-b29cae25c81d
X-WR-CALDESC:Cleanups will be held at various locations around town from 10
 -11:30am. Join us at the Norwood Town Common for a fair and community picn
 ic following the clean ups. Rain location for fair is Norwood HS Gymnasium
 .
X-WR-RELCALID:35f5a4f609eb7379bdda5f3cdb63af5e
X-WR-TIMEZONE:America/New_York
BEGIN:VTIMEZONE
TZID:America/New_York
BEGIN:STANDARD
TZNAME:EST
DTSTART:20241103T020000
TZOFFSETFROM:-0400
TZOFFSETTO:-0500
RDATE:20251102T020000
END:STANDARD
BEGIN:DAYLIGHT
TZNAME:EDT
DTSTART:20250309T020000
TZOFFSETFROM:-0500
TZOFFSETTO:-0400
RDATE:20260308T020000
END:DAYLIGHT
END:VTIMEZONE
BEGIN:VEVENT
UID:af64b818-878a-4a77-950b-1a7fa4cd272a
DTSTAMP:20260420T124457Z
DESCRIPTION:Cleanups will be held at various locations around town from 10-
 11:30am. Join us at the Norwood Town Common for a fair and community picni
 c following the clean ups. Rain location for fair is Norwood HS Gymnasium.
DTSTART;TZID=America/New_York:20250427T100000
DTEND;TZID=America/New_York:20250427T113000
LOCATION:Norwood\, MA
SUMMARY:2025 Norwood Earth Day Cleanup\, Fair\, and Community Picnic
END:VEVENT
END:VCALENDAR
