BEGIN:VCALENDAR
VERSION:2.0
PRODID:-//keepmassbeautiful.org//NONSGML kigkonsult.se iCalcreator 2.30.10/
 /
CALSCALE:GREGORIAN
METHOD:PUBLISH
UID:a1774148-2cad-4d48-bec9-5c540abe0bdf
X-WR-CALDESC:It’s our 13th year and as always\, we need your help to contin
 ue the tradition of uniting our Town Departments\, staff\, and community t
 o honor Earth Day as we prepare for Brewster in Bloom.  You are receiving 
 this e-mail because of your participation in the past and we would like to
  invite you to join us once again as a Team Captain.\n\nAt this time\, we 
 plan to use basically the same routes\, but that could change based upon t
 he level of volunteerism. Start times can vary but should not start before
  8 AM.  The event is finished when all of your team members finish their r
 outes and turn in their supplies. “Just in case” a rain date has been sche
 duled for the next day (Sunday\, April 27th). \n \nThanks to the generosit
 y of many local businesses\, we can once again offer a free volunteer appr
 eciation lunch starting at 12:30 at the Brewster Baptist Church. We’re con
 fident that there will be plenty for everyone.  \n\nPlease confirm your wi
 llingness to participate in Beautify Brewster 2025.  As a Team Captain\, w
 e are asking you to recruit and organize volunteers for your route with th
 e option of adding additional people as they contact the DNR office or Meg
  directly.  If you’re willing to Captain and round up your team\, but unab
 le to attend\, please name an alternate that could replace you on the day 
 of the cleanup.  \n\nLike last year\, the State is requiring that anyone o
 n the Route 6A cleanup routes must follow an additional procedure (it isn’
 t hard\, just different and we’ll share that with those specific team Capt
 ains).\n\nWe anticipate this year to be at least as big as last year. Whil
 e it’s important to clean up our roads\, it’s also important to provide da
 ta to larger non-profits who are fighting the same scourge as we are\, i.e
 .\, litter! We’re in the process of tightening up the data collection form
 s. We encourage you again to assign a data collector to every two pickers.
   Perhaps the data collector is someone who can’t bend and stoop\, but the
 y can walk\, and they want to participate! \n\nWe look forward to working 
 with you to make it another success.  Thank you for your continued support
  to keeping Brewster clean.\n\n
X-WR-RELCALID:dc3d272aa9c57dff61c3a25c5fa610e0
X-WR-TIMEZONE:America/New_York
BEGIN:VTIMEZONE
TZID:America/New_York
BEGIN:STANDARD
TZNAME:EST
DTSTART:20241103T020000
TZOFFSETFROM:-0400
TZOFFSETTO:-0500
RDATE:20251102T020000
END:STANDARD
BEGIN:DAYLIGHT
TZNAME:EDT
DTSTART:20250309T020000
TZOFFSETFROM:-0500
TZOFFSETTO:-0400
RDATE:20260308T020000
END:DAYLIGHT
END:VTIMEZONE
BEGIN:VEVENT
UID:69d5d9b1-6fc4-4032-a02e-739ca04271a8
DTSTAMP:20260420T123752Z
DESCRIPTION:It’s our 13th year and as always\, we need your help to continu
 e the tradition of uniting our Town Departments\, staff\, and community to
  honor Earth Day as we prepare for Brewster in Bloom.  You are receiving t
 his e-mail because of your participation in the past and we would like to 
 invite you to join us once again as a Team Captain.\n\nAt this time\, we p
 lan to use basically the same routes\, but that could change based upon th
 e level of volunteerism. Start times can vary but should not start before 
 8 AM.  The event is finished when all of your team members finish their ro
 utes and turn in their supplies. “Just in case” a rain date has been sched
 uled for the next day (Sunday\, April 27th). \n \nThanks to the generosity
  of many local businesses\, we can once again offer a free volunteer appre
 ciation lunch starting at 12:30 at the Brewster Baptist Church. We’re conf
 ident that there will be plenty for everyone.  \n\nPlease confirm your wil
 lingness to participate in Beautify Brewster 2025.  As a Team Captain\, we
  are asking you to recruit and organize volunteers for your route with the
  option of adding additional people as they contact the DNR office or Meg 
 directly.  If you’re willing to Captain and round up your team\, but unabl
 e to attend\, please name an alternate that could replace you on the day o
 f the cleanup.  \n\nLike last year\, the State is requiring that anyone on
  the Route 6A cleanup routes must follow an additional procedure (it isn’t
  hard\, just different and we’ll share that with those specific team Capta
 ins).\n\nWe anticipate this year to be at least as big as last year. While
  it’s important to clean up our roads\, it’s also important to provide dat
 a to larger non-profits who are fighting the same scourge as we are\, i.e.
 \, litter! We’re in the process of tightening up the data collection forms
 . We encourage you again to assign a data collector to every two pickers. 
  Perhaps the data collector is someone who can’t bend and stoop\, but they
  can walk\, and they want to participate! \n\nWe look forward to working w
 ith you to make it another success.  Thank you for your continued support 
 to keeping Brewster clean.\n\n
DTSTART;TZID=America/New_York:20250427T080000
DTEND;TZID=America/New_York:20250427T140000
LOCATION:Brewster\, MA
SUMMARY:Beautify Brewster Day
END:VEVENT
END:VCALENDAR
