BEGIN:VCALENDAR
VERSION:2.0
PRODID:-//keepmassbeautiful.org//NONSGML kigkonsult.se iCalcreator 2.30.10/
 /
CALSCALE:GREGORIAN
METHOD:PUBLISH
UID:01e65b9e-8a1d-4d9d-9268-bd7c9658f4cf
X-WR-CALDESC:Spring has sprung\, and it’s time to spruce up Holden! Join us
  for the Town of Holden’s Spring Spruce Up Day as we come together to refr
 esh and brighten our community. Let’s celebrate the season of renewal by c
 leaning and making our public spaces shine! Bring your friends\, family\, 
 and plenty of energy — let’s make Holden bloom! Come anytime between 9 and
  1 — no need to arrive right at the start or stay the entire time. Every l
 ittle bit helps and is appreciated! \n\nMeet up location: Holden DPW 18 In
 dustrial Ave\, Holden MA
X-WR-RELCALID:473c1ebf1b079541f9f45581ba9e5594
X-WR-TIMEZONE:America/New_York
BEGIN:VTIMEZONE
TZID:America/New_York
BEGIN:STANDARD
TZNAME:EST
DTSTART:20241103T020000
TZOFFSETFROM:-0400
TZOFFSETTO:-0500
RDATE:20251102T020000
END:STANDARD
BEGIN:DAYLIGHT
TZNAME:EDT
DTSTART:20250309T020000
TZOFFSETFROM:-0500
TZOFFSETTO:-0400
RDATE:20260308T020000
END:DAYLIGHT
END:VTIMEZONE
BEGIN:VEVENT
UID:17d1b141-85d7-4e33-a158-17f32086c012
DTSTAMP:20260420T125924Z
DESCRIPTION:Spring has sprung\, and it’s time to spruce up Holden! Join us 
 for the Town of Holden’s Spring Spruce Up Day as we come together to refre
 sh and brighten our community. Let’s celebrate the season of renewal by cl
 eaning and making our public spaces shine! Bring your friends\, family\, a
 nd plenty of energy — let’s make Holden bloom! Come anytime between 9 and 
 1 — no need to arrive right at the start or stay the entire time. Every li
 ttle bit helps and is appreciated! \n\nMeet up location: Holden DPW 18 Ind
 ustrial Ave\, Holden MA
DTSTART;TZID=America/New_York:20250427T090000
DTEND;TZID=America/New_York:20250427T130000
LOCATION:Holden\, MA
SUMMARY:Holden Spring Spruce Up Day 2025
END:VEVENT
END:VCALENDAR
