BEGIN:VCALENDAR
VERSION:2.0
PRODID:-//keepmassbeautiful.org//NONSGML kigkonsult.se iCalcreator 2.30.10/
 /
CALSCALE:GREGORIAN
METHOD:PUBLISH
UID:f48529f6-6c1b-4d48-a3fc-e4514d7b13fe
X-WR-CALDESC:Are you involved in addressing climate change and supporting y
 our community to take action? MassEnergize invites you to our second annua
 l Community Climate Leaders Conference where we will be inspired\, learn f
 rom each other's experiences\, and support best practices for engaging our
  communities in climate action. Anyone can be a community climate leader. 
 If you don’t see yourself as a leader\, this conference will help show you
  how to become one!
X-WR-RELCALID:1693b4eba07ba588f0934379f4e44cfb
X-WR-TIMEZONE:America/New_York
BEGIN:VTIMEZONE
TZID:America/New_York
BEGIN:STANDARD
TZNAME:EST
DTSTART:20241103T020000
TZOFFSETFROM:-0400
TZOFFSETTO:-0500
RDATE:20251102T020000
END:STANDARD
BEGIN:DAYLIGHT
TZNAME:EDT
DTSTART:20250309T020000
TZOFFSETFROM:-0500
TZOFFSETTO:-0400
RDATE:20260308T020000
END:DAYLIGHT
END:VTIMEZONE
BEGIN:VEVENT
UID:e0f9dcb8-aacc-4919-af08-975e226437e5
DTSTAMP:20260420T130007Z
DESCRIPTION:Are you involved in addressing climate change and supporting yo
 ur community to take action? MassEnergize invites you to our second annual
  Community Climate Leaders Conference where we will be inspired\, learn fr
 om each other's experiences\, and support best practices for engaging our 
 communities in climate action. Anyone can be a community climate leader. I
 f you don’t see yourself as a leader\, this conference will help show you 
 how to become one!
DTSTART;TZID=America/New_York:20250430T080000
DTEND;TZID=America/New_York:20250430T183000
LOCATION:Bentley University\, LaCava Center\, 175 Forest St\, Waltham\, MA 
 02452
SUMMARY:MassEnergize Community Climate Leaders Conference 2025
END:VEVENT
END:VCALENDAR
