BEGIN:VCALENDAR
VERSION:2.0
PRODID:-//keepmassbeautiful.org//NONSGML kigkonsult.se iCalcreator 2.30.10/
 /
CALSCALE:GREGORIAN
METHOD:PUBLISH
UID:f422aa58-e4c5-46b3-802e-1dfb667492dd
X-WR-CALDESC:
X-WR-RELCALID:8247248ba5b7acfe923f9f2581cdf816
X-WR-TIMEZONE:America/New_York
BEGIN:VTIMEZONE
TZID:America/New_York
BEGIN:STANDARD
TZNAME:EST
DTSTART:20241103T020000
TZOFFSETFROM:-0400
TZOFFSETTO:-0500
RDATE:20251102T020000
RDATE:20261101T020000
END:STANDARD
BEGIN:DAYLIGHT
TZNAME:EDT
DTSTART:20250309T020000
TZOFFSETFROM:-0500
TZOFFSETTO:-0400
RDATE:20260308T020000
END:DAYLIGHT
END:VTIMEZONE
BEGIN:VEVENT
UID:8145451f-84b2-460e-b119-8eb53036fe4f
DTSTAMP:20260420T105155Z
DESCRIPTION:
DTSTART;TZID=America/New_York:20250503T060000
DTEND;TZID=America/New_York:20250503T060001
LOCATION:Plymouth\, MA
SUMMARY:2025 Plymouth Hometown Cleanup
END:VEVENT
END:VCALENDAR
