BEGIN:VCALENDAR
VERSION:2.0
PRODID:-//keepmassbeautiful.org//NONSGML kigkonsult.se iCalcreator 2.30.10/
 /
CALSCALE:GREGORIAN
METHOD:PUBLISH
UID:d46a33fb-78c1-4e38-9125-24e6a458a955
X-WR-CALDESC:The 7th Annual ‘Cohasset Earth Day Clean-Up’ is Saturday\, May
  3\, 2025\, from 9 a.m. – 2 p.m. Please join the Cohasset community in cel
 ebrating Earth Day 2025 and participating in this annual beautification pr
 oject.  Sponsored by the Open Space & Recreation Committee last year\, Coh
 asset residents rallied and removed 1\,460 pounds of non-biodegradable\, s
 ingle-use trash and debris that crowd our parks\, shorelines\, and neighbo
 rhoods. \n\nTo join this year’s efforts and receive a cleaning assignment\
 , please stop by the Cohasset Recreation Department between 9 a.m. - 2 p.m
 . on Saturday\, May 3 at 100 Sohier Street. The Open Space & Recreation Co
 mmittee will assign workers an area in town to clean. Trash bags and ‘pick
 ers’ will be provided\, but please bring your gloves. All trash collected 
 will be deposited in an onsite dumpster. \n\nMeet up location: 100 Sohier 
 Street\, Cohasset\, MA 02025
X-WR-RELCALID:60126ea8ce360417710ca78d593f0815
X-WR-TIMEZONE:America/New_York
BEGIN:VTIMEZONE
TZID:America/New_York
BEGIN:STANDARD
TZNAME:EST
DTSTART:20241103T020000
TZOFFSETFROM:-0400
TZOFFSETTO:-0500
RDATE:20251102T020000
RDATE:20261101T020000
END:STANDARD
BEGIN:DAYLIGHT
TZNAME:EDT
DTSTART:20250309T020000
TZOFFSETFROM:-0500
TZOFFSETTO:-0400
RDATE:20260308T020000
END:DAYLIGHT
END:VTIMEZONE
BEGIN:VEVENT
UID:c24704d6-63d9-4361-a564-4977485bfa02
DTSTAMP:20260420T110714Z
DESCRIPTION:The 7th Annual ‘Cohasset Earth Day Clean-Up’ is Saturday\, May 
 3\, 2025\, from 9 a.m. – 2 p.m. Please join the Cohasset community in cele
 brating Earth Day 2025 and participating in this annual beautification pro
 ject.  Sponsored by the Open Space & Recreation Committee last year\, Coha
 sset residents rallied and removed 1\,460 pounds of non-biodegradable\, si
 ngle-use trash and debris that crowd our parks\, shorelines\, and neighbor
 hoods. \n\nTo join this year’s efforts and receive a cleaning assignment\,
  please stop by the Cohasset Recreation Department between 9 a.m. - 2 p.m.
  on Saturday\, May 3 at 100 Sohier Street. The Open Space & Recreation Com
 mittee will assign workers an area in town to clean. Trash bags and ‘picke
 rs’ will be provided\, but please bring your gloves. All trash collected w
 ill be deposited in an onsite dumpster. \n\nMeet up location: 100 Sohier S
 treet\, Cohasset\, MA 02025
DTSTART;TZID=America/New_York:20250503T090000
DTEND;TZID=America/New_York:20250503T140000
LOCATION:Cohasset\, MA
SUMMARY:Cohasset Earth Day Cleanup
END:VEVENT
END:VCALENDAR
