BEGIN:VCALENDAR
VERSION:2.0
PRODID:-//keepmassbeautiful.org//NONSGML kigkonsult.se iCalcreator 2.30.10/
 /
CALSCALE:GREGORIAN
METHOD:PUBLISH
UID:761e1215-e15b-4c89-a1a5-68b33a5b1a92
X-WR-CALDESC:This will be East Longmeadow's 4th annual Earth Day clean up. 
 \n\nJoin us Saturday\, May 3\, 2025 to help clean up East Longmeadow! Regi
 ster and let us know where you would like to clean up or we can assign you
  a spot. \n\nPickup your supplies on Saturday May 3rd from 8am-9am at the 
 Senior Center at 328 N. Main St.  The drop off for the bags will be at the
  transfer station at 170 Somers Rd.\n\nPlease wear jeans\, good gloves and
  bring bug spray!
X-WR-RELCALID:89fdeac644922d779722f306e74f0421
X-WR-TIMEZONE:America/New_York
BEGIN:VTIMEZONE
TZID:America/New_York
BEGIN:STANDARD
TZNAME:EST
DTSTART:20241103T020000
TZOFFSETFROM:-0400
TZOFFSETTO:-0500
RDATE:20251102T020000
RDATE:20261101T020000
END:STANDARD
BEGIN:DAYLIGHT
TZNAME:EDT
DTSTART:20250309T020000
TZOFFSETFROM:-0500
TZOFFSETTO:-0400
RDATE:20260308T020000
END:DAYLIGHT
END:VTIMEZONE
BEGIN:VEVENT
UID:33f5b979-b5aa-44bd-9c25-47a16c009b4d
DTSTAMP:20260420T111242Z
DESCRIPTION:This will be East Longmeadow's 4th annual Earth Day clean up. 
 \n\nJoin us Saturday\, May 3\, 2025 to help clean up East Longmeadow! Regi
 ster and let us know where you would like to clean up or we can assign you
  a spot. \n\nPickup your supplies on Saturday May 3rd from 8am-9am at the 
 Senior Center at 328 N. Main St.  The drop off for the bags will be at the
  transfer station at 170 Somers Rd.\n\nPlease wear jeans\, good gloves and
  bring bug spray!
DTSTART;TZID=America/New_York:20250503T090000
DTEND;TZID=America/New_York:20250503T110000
LOCATION:East Longmeadow\, MA
SUMMARY:Earth Day Cleanup (East Longmeadow)
END:VEVENT
END:VCALENDAR
