BEGIN:VCALENDAR
VERSION:2.0
PRODID:-//keepmassbeautiful.org//NONSGML kigkonsult.se iCalcreator 2.30.10/
 /
CALSCALE:GREGORIAN
METHOD:PUBLISH
UID:fd2a2125-fff1-4a80-a569-8409c7ffef3c
X-WR-CALDESC:Volunteers pre register on our website and choose sites to cle
 an up among those offered. Cleanup is for 3 hours\, then pizza party at no
 on with terrific raffles and a door prize. \n\nRegistered volunteers start
  at their selected cleanup site. Walk-ins go to the North Attleborough Hig
 h School on May 3\, day of the cleanup\, 8:00.
X-WR-RELCALID:cba52e4e898fa1e62047e42f557cb667
X-WR-TIMEZONE:America/New_York
BEGIN:VTIMEZONE
TZID:America/New_York
BEGIN:STANDARD
TZNAME:EST
DTSTART:20241103T020000
TZOFFSETFROM:-0400
TZOFFSETTO:-0500
RDATE:20251102T020000
RDATE:20261101T020000
END:STANDARD
BEGIN:DAYLIGHT
TZNAME:EDT
DTSTART:20250309T020000
TZOFFSETFROM:-0500
TZOFFSETTO:-0400
RDATE:20260308T020000
END:DAYLIGHT
END:VTIMEZONE
BEGIN:VEVENT
UID:f0df177a-eb0e-43a1-8ae4-9eb4e98233db
DTSTAMP:20260420T141617Z
DESCRIPTION:Volunteers pre register on our website and choose sites to clea
 n up among those offered. Cleanup is for 3 hours\, then pizza party at noo
 n with terrific raffles and a door prize. \n\nRegistered volunteers start 
 at their selected cleanup site. Walk-ins go to the North Attleborough High
  School on May 3\, day of the cleanup\, 8:00.
DTSTART;TZID=America/New_York:20250503T090000
DTEND;TZID=America/New_York:20250503T120000
LOCATION:North Attleborough\, MA
SUMMARY:Great American Cleanup (North Attleborough)
END:VEVENT
END:VCALENDAR
