BEGIN:VCALENDAR
VERSION:2.0
PRODID:-//keepmassbeautiful.org//NONSGML kigkonsult.se iCalcreator 2.30.10/
 /
CALSCALE:GREGORIAN
METHOD:PUBLISH
UID:d49b77da-9118-4d8b-a736-48191b0c105f
X-WR-CALDESC:Save the DATE for the 2025 Great Fitchburg City Cleanups! Join
  us to clean our streets and parks of litter and debris. Please bring frie
 nds with work gloves and a helping hand. We provide bags\, Plastic gloves 
 and disposal. City Cleanups and Events are 8AM - 12PM \n\nMeet up: 44 Wano
 osnoc Rd.
X-WR-RELCALID:a636682b2ecc50af56cf01144ec816b6
X-WR-TIMEZONE:America/New_York
BEGIN:VTIMEZONE
TZID:America/New_York
BEGIN:STANDARD
TZNAME:EST
DTSTART:20241103T020000
TZOFFSETFROM:-0400
TZOFFSETTO:-0500
RDATE:20251102T020000
RDATE:20261101T020000
END:STANDARD
BEGIN:DAYLIGHT
TZNAME:EDT
DTSTART:20250309T020000
TZOFFSETFROM:-0500
TZOFFSETTO:-0400
RDATE:20260308T020000
END:DAYLIGHT
END:VTIMEZONE
BEGIN:VEVENT
UID:6024476b-7ee4-4fd6-8894-dbfe89c96ea2
DTSTAMP:20260420T112412Z
DESCRIPTION:Save the DATE for the 2025 Great Fitchburg City Cleanups! Join 
 us to clean our streets and parks of litter and debris. Please bring frien
 ds with work gloves and a helping hand. We provide bags\, Plastic gloves a
 nd disposal. City Cleanups and Events are 8AM - 12PM \n\nMeet up: 44 Wanoo
 snoc Rd.
DTSTART;TZID=America/New_York:20250503T080000
DTEND;TZID=America/New_York:20250503T120000
LOCATION:Fitchburg\, MA
SUMMARY:Great Fitchburg City Cleanup
END:VEVENT
END:VCALENDAR
