BEGIN:VCALENDAR
VERSION:2.0
PRODID:-//keepmassbeautiful.org//NONSGML kigkonsult.se iCalcreator 2.30.10/
 /
CALSCALE:GREGORIAN
METHOD:PUBLISH
UID:ceb77308-3777-4954-b302-14b70033d65a
X-WR-CALDESC:Celebrate spring with purpose at our Green Mayday event! We’re
  coming together for a litter clean-up at Galvin Middle School and part of
  the Wakefield Rail Trail\, making a real impact right here in our communi
 ty. We’ll also be hosting a sustainability showcase featuring local nonpro
 fits sharing simple\, actionable ways to live more eco-friendly and get in
 volved in environmental efforts. Whether you’re a seasoned eco-warrior or 
 just getting started\, this is a fun and meaningful way to connect. \n\nMe
 et up location: Galvin Middle School\, 525 Main St\, Wakefield\, MA 01880
X-WR-RELCALID:2e1f18878dc586d956df7fed034f619e
X-WR-TIMEZONE:America/New_York
BEGIN:VTIMEZONE
TZID:America/New_York
BEGIN:STANDARD
TZNAME:EST
DTSTART:20241103T020000
TZOFFSETFROM:-0400
TZOFFSETTO:-0500
RDATE:20251102T020000
RDATE:20261101T020000
END:STANDARD
BEGIN:DAYLIGHT
TZNAME:EDT
DTSTART:20250309T020000
TZOFFSETFROM:-0500
TZOFFSETTO:-0400
RDATE:20260308T020000
END:DAYLIGHT
END:VTIMEZONE
BEGIN:VEVENT
UID:0c5b5b2a-3d06-4834-a506-9644886893a9
DTSTAMP:20260420T110647Z
DESCRIPTION:Celebrate spring with purpose at our Green Mayday event! We’re 
 coming together for a litter clean-up at Galvin Middle School and part of 
 the Wakefield Rail Trail\, making a real impact right here in our communit
 y. We’ll also be hosting a sustainability showcase featuring local nonprof
 its sharing simple\, actionable ways to live more eco-friendly and get inv
 olved in environmental efforts. Whether you’re a seasoned eco-warrior or j
 ust getting started\, this is a fun and meaningful way to connect. \n\nMee
 t up location: Galvin Middle School\, 525 Main St\, Wakefield\, MA 01880
DTSTART;TZID=America/New_York:20250503T100000
DTEND;TZID=America/New_York:20250503T133000
LOCATION:Wakefield\, MA
SUMMARY:Green May Day (Wakefield)
END:VEVENT
END:VCALENDAR
