BEGIN:VCALENDAR
VERSION:2.0
PRODID:-//keepmassbeautiful.org//NONSGML kigkonsult.se iCalcreator 2.30.10/
 /
CALSCALE:GREGORIAN
METHOD:PUBLISH
UID:54a516e7-6b62-43b4-bc5d-61f6de74fd18
X-WR-CALDESC:The Halifax Beautification Committee will hold its Spring Clea
 nup from May 3 from 9-4 and May 4th 1-4. Supplies can be picked up at the 
 main entrance to the Halifax Town Hall at 499 Plymouth St.\, Halifax\, MA.
  \n\nMeet up: Halifax Town Hall\, 499 Plymouth St.\, Halifax\,MA 02338
X-WR-RELCALID:97db8e0df879dbd04f672942bb71f386
X-WR-TIMEZONE:America/New_York
BEGIN:VTIMEZONE
TZID:America/New_York
BEGIN:STANDARD
TZNAME:EST
DTSTART:20241103T020000
TZOFFSETFROM:-0400
TZOFFSETTO:-0500
RDATE:20251102T020000
RDATE:20261101T020000
END:STANDARD
BEGIN:DAYLIGHT
TZNAME:EDT
DTSTART:20250309T020000
TZOFFSETFROM:-0500
TZOFFSETTO:-0400
RDATE:20260308T020000
END:DAYLIGHT
END:VTIMEZONE
BEGIN:VEVENT
UID:34edd974-9256-44d6-8dcb-135a28ccc959
DTSTAMP:20260420T105017Z
DESCRIPTION:The Halifax Beautification Committee will hold its Spring Clean
 up from May 3 from 9-4 and May 4th 1-4. Supplies can be picked up at the m
 ain entrance to the Halifax Town Hall at 499 Plymouth St.\, Halifax\, MA. 
 \n\nMeet up: Halifax Town Hall\, 499 Plymouth St.\, Halifax\,MA 02338
DTSTART;TZID=America/New_York:20250503T060000
DTEND;TZID=America/New_York:20250504T060001
LOCATION:Halifax\, MA
SUMMARY:Halifax Beautification Committee Spring Cleanup
END:VEVENT
END:VCALENDAR
