BEGIN:VCALENDAR
VERSION:2.0
PRODID:-//keepmassbeautiful.org//NONSGML kigkonsult.se iCalcreator 2.30.10/
 /
CALSCALE:GREGORIAN
METHOD:PUBLISH
UID:15e5c8ab-47f8-4533-aa21-0e4710ee3213
X-WR-CALDESC:Join the Needham Park and Recreation department for the town w
 ide clean up\n\nSupplies will be provided at the Rosemary Recreation Compl
 ex We ask that your pre-register with the number of participants so that w
 e can have enough supplies. Have a favorite park or trail you'd like to gi
 ve a little extra TLC? Let us know so we can assign you there!\n\nSupply P
 ick Up Times:\nMay 1: 9:00am - 5:00pm\nMay 2: 9:00am - 12:00pm
X-WR-RELCALID:7fa49efff07d04c5cd1144b82441550d
X-WR-TIMEZONE:America/New_York
BEGIN:VTIMEZONE
TZID:America/New_York
BEGIN:STANDARD
TZNAME:EST
DTSTART:20241103T020000
TZOFFSETFROM:-0400
TZOFFSETTO:-0500
RDATE:20251102T020000
RDATE:20261101T020000
END:STANDARD
BEGIN:DAYLIGHT
TZNAME:EDT
DTSTART:20250309T020000
TZOFFSETFROM:-0500
TZOFFSETTO:-0400
RDATE:20260308T020000
END:DAYLIGHT
END:VTIMEZONE
BEGIN:VEVENT
UID:9a090ee9-592a-40ff-924d-363c805819c4
DTSTAMP:20260420T144234Z
DESCRIPTION:Join the Needham Park and Recreation department for the town wi
 de clean up\n\nSupplies will be provided at the Rosemary Recreation Comple
 x We ask that your pre-register with the number of participants so that we
  can have enough supplies. Have a favorite park or trail you'd like to giv
 e a little extra TLC? Let us know so we can assign you there!\n\nSupply Pi
 ck Up Times:\nMay 1: 9:00am - 5:00pm\nMay 2: 9:00am - 12:00pm
DTSTART;TZID=America/New_York:20250503T060000
DTEND;TZID=America/New_York:20250504T060001
LOCATION:Needham\, MA
SUMMARY:Needham Town Wide Cleanup Day
END:VEVENT
END:VCALENDAR
