BEGIN:VCALENDAR
VERSION:2.0
PRODID:-//keepmassbeautiful.org//NONSGML kigkonsult.se iCalcreator 2.30.10/
 /
CALSCALE:GREGORIAN
METHOD:PUBLISH
UID:4b469ddf-1344-422c-9870-062e9339cbf9
X-WR-CALDESC:Spring 2025 Plymouth Hometown Litter Cleanup\nPlease join us f
 or the 16th semi-annual Hometown Cleanup! RAIN OR SHINE\n\nAll day\, any t
 ime Saturday May 3rd. SIGNUPS DUE BY THURSDAY MAY 1st. Along with purple t
 rash bags\, safety vests are available at the Town Hall Planning Office (3
 rd floor) for those who need them.\n\nIf you're part of a larger group\, p
 lease coordinate with the group leader regarding bags\, meetup spot\, etc.
  Separate registration is not needed.\nPinehills - reach out to Mike at mj
 hanlon3@verizon.net \nRedbrook - reach out to Val at  vlangbn@gmail.com\nS
 ix Ponds - reach out to Hampton at hampton.watkins@gmail.com
X-WR-RELCALID:fe185d99a4243b4a6d1f5995348686a6
X-WR-TIMEZONE:America/New_York
BEGIN:VTIMEZONE
TZID:America/New_York
BEGIN:STANDARD
TZNAME:EST
DTSTART:20241103T020000
TZOFFSETFROM:-0400
TZOFFSETTO:-0500
RDATE:20251102T020000
RDATE:20261101T020000
END:STANDARD
BEGIN:DAYLIGHT
TZNAME:EDT
DTSTART:20250309T020000
TZOFFSETFROM:-0500
TZOFFSETTO:-0400
RDATE:20260308T020000
END:DAYLIGHT
END:VTIMEZONE
BEGIN:VEVENT
UID:598d1eef-46ae-44ef-a758-13e912a20d30
DTSTAMP:20260420T111446Z
DESCRIPTION:Spring 2025 Plymouth Hometown Litter Cleanup\nPlease join us fo
 r the 16th semi-annual Hometown Cleanup! RAIN OR SHINE\n\nAll day\, any ti
 me Saturday May 3rd. SIGNUPS DUE BY THURSDAY MAY 1st. Along with purple tr
 ash bags\, safety vests are available at the Town Hall Planning Office (3r
 d floor) for those who need them.\n\nIf you're part of a larger group\, pl
 ease coordinate with the group leader regarding bags\, meetup spot\, etc. 
 Separate registration is not needed.\nPinehills - reach out to Mike at mjh
 anlon3@verizon.net \nRedbrook - reach out to Val at  vlangbn@gmail.com\nSi
 x Ponds - reach out to Hampton at hampton.watkins@gmail.com
DTSTART;TZID=America/New_York:20250503T150000
DTEND;TZID=America/New_York:20250503T160000
LOCATION:Plymouth\, MA
SUMMARY:Plymouth Hometown Litter Cleanup
END:VEVENT
END:VCALENDAR
