BEGIN:VCALENDAR
VERSION:2.0
PRODID:-//keepmassbeautiful.org//NONSGML kigkonsult.se iCalcreator 2.30.10/
 /
CALSCALE:GREGORIAN
METHOD:PUBLISH
UID:33e058cd-a131-4c99-81a5-6e220bdf2cfe
X-WR-CALDESC:Join Us for Norwell's Cleanup Day!\n\nYellow bags for Trash Ba
 sh trash are available at town offices on May 3\, and at the Pour\, Lucky 
 Fin\, Kappy's Market Basket\, Stop and Shop\, Devine Feed & Pet\, Norwell 
 Package & General Store\, Big Y\, Shaws (Hanover Store)\, and Previte's du
 ring the week preceding Trash Bash. \n\nPick up your trash bags\, gloves\,
  coffee & donuts at Norwell Town Offices 9am - 11 am.\n\nSpecial yellow ba
 gs should be filled with the trash you collect on Trash Bash Day or any da
 y in the following week prior to your own trash pick up.  Put the bags bes
 ide your own trash and recycling bins and the town trash trucks will pick 
 them up.  If you have room in your recycling bin\, please put Trash Bash r
 ecyclables in your own bin. You may also bring the trash and recyclables t
 o the town recycling area on Main Street on Saturday\, May 4\, from 9-3.\n
 \n\n\n\n\nRain date: May 4th
X-WR-RELCALID:51e7adf432b8787c5b1f856c793ecb7a
X-WR-TIMEZONE:America/New_York
BEGIN:VTIMEZONE
TZID:America/New_York
BEGIN:STANDARD
TZNAME:EST
DTSTART:20241103T020000
TZOFFSETFROM:-0400
TZOFFSETTO:-0500
RDATE:20251102T020000
RDATE:20261101T020000
END:STANDARD
BEGIN:DAYLIGHT
TZNAME:EDT
DTSTART:20250309T020000
TZOFFSETFROM:-0500
TZOFFSETTO:-0400
RDATE:20260308T020000
END:DAYLIGHT
END:VTIMEZONE
BEGIN:VEVENT
UID:85de3026-4063-402b-a0fa-37c67beba8e1
DTSTAMP:20260420T110504Z
DESCRIPTION:Join Us for Norwell's Cleanup Day!\n\nYellow bags for Trash Bas
 h trash are available at town offices on May 3\, and at the Pour\, Lucky F
 in\, Kappy's Market Basket\, Stop and Shop\, Devine Feed & Pet\, Norwell P
 ackage & General Store\, Big Y\, Shaws (Hanover Store)\, and Previte's dur
 ing the week preceding Trash Bash. \n\nPick up your trash bags\, gloves\, 
 coffee & donuts at Norwell Town Offices 9am - 11 am.\n\nSpecial yellow bag
 s should be filled with the trash you collect on Trash Bash Day or any day
  in the following week prior to your own trash pick up.  Put the bags besi
 de your own trash and recycling bins and the town trash trucks will pick t
 hem up.  If you have room in your recycling bin\, please put Trash Bash re
 cyclables in your own bin. You may also bring the trash and recyclables to
  the town recycling area on Main Street on Saturday\, May 4\, from 9-3.\n
 \n\n\n\n\nRain date: May 4th
DTSTART;TZID=America/New_York:20250503T090000
DTEND;TZID=America/New_York:20250503T150000
LOCATION:Norwell\, MA
SUMMARY:Trash Bash Day (Norwell)
END:VEVENT
END:VCALENDAR
