BEGIN:VCALENDAR
VERSION:2.0
PRODID:-//keepmassbeautiful.org//NONSGML kigkonsult.se iCalcreator 2.30.10/
 /
CALSCALE:GREGORIAN
METHOD:PUBLISH
UID:48645cb7-d299-4e19-adb4-c9a3fe32ef3c
X-WR-CALDESC:Reservoir cleanup is rescheduled for Sunday\, May 4th . We're 
 hosting two time slots: 8-11am and 4-6pm. Hopefully you can join for one o
 f them. Only have an hour? We'll take it! All supplies provided. No regist
 ration required\, just show up and bring your energy! \n\nStarting point i
 s the small lot off Oak St (picture in comments). We'll make our way aroun
 d the res and will have wheelbarrows to bring bags back up the path for DP
 W pickup. \n\nNo registration required\, just show up and bring your energ
 y!
X-WR-RELCALID:a67ff009d557337b1db1b15d74edffeb
X-WR-TIMEZONE:America/New_York
BEGIN:VTIMEZONE
TZID:America/New_York
BEGIN:STANDARD
TZNAME:EST
DTSTART:20241103T020000
TZOFFSETFROM:-0400
TZOFFSETTO:-0500
RDATE:20251102T020000
RDATE:20261101T020000
END:STANDARD
BEGIN:DAYLIGHT
TZNAME:EDT
DTSTART:20250309T020000
TZOFFSETFROM:-0500
TZOFFSETTO:-0400
RDATE:20260308T020000
END:DAYLIGHT
END:VTIMEZONE
BEGIN:VEVENT
UID:336fd7ac-4cb2-4dbc-8251-f6817fa76d15
DTSTAMP:20260420T110756Z
DESCRIPTION:Reservoir cleanup is rescheduled for Sunday\, May 4th . We're h
 osting two time slots: 8-11am and 4-6pm. Hopefully you can join for one of
  them. Only have an hour? We'll take it! All supplies provided. No registr
 ation required\, just show up and bring your energy! \n\nStarting point is
  the small lot off Oak St (picture in comments). We'll make our way around
  the res and will have wheelbarrows to bring bags back up the path for DPW
  pickup. \n\nNo registration required\, just show up and bring your energy
 !
DTSTART;TZID=America/New_York:20250504T080000
DTEND;TZID=America/New_York:20250504T110000
LOCATION:Randolph\, MA
SUMMARY:KRB Group Cleanup Event (Randolph)
END:VEVENT
END:VCALENDAR
