BEGIN:VCALENDAR
VERSION:2.0
PRODID:-//keepmassbeautiful.org//NONSGML kigkonsult.se iCalcreator 2.30.10/
 /
CALSCALE:GREGORIAN
METHOD:PUBLISH
UID:ee50a9d9-840b-4c36-85ac-1ff73197e4a6
X-WR-CALDESC:Save the DATE for the 2025 Great Fitchburg City Cleanups! Join
  us to clean our streets and parks of litter and debris. Please bring frie
 nds with work gloves and a helping hand. We provide bags\, Plastic gloves 
 and disposal. City Cleanups and Events are 8AM - 12PM \n\nMeet up: BAC/Sta
 nley park\, 1 Simonds Rd
X-WR-RELCALID:bf04783602740521b5cc4ee72add80e9
X-WR-TIMEZONE:America/New_York
BEGIN:VTIMEZONE
TZID:America/New_York
BEGIN:STANDARD
TZNAME:EST
DTSTART:20241103T020000
TZOFFSETFROM:-0400
TZOFFSETTO:-0500
RDATE:20251102T020000
RDATE:20261101T020000
END:STANDARD
BEGIN:DAYLIGHT
TZNAME:EDT
DTSTART:20250309T020000
TZOFFSETFROM:-0500
TZOFFSETTO:-0400
RDATE:20260308T020000
END:DAYLIGHT
END:VTIMEZONE
BEGIN:VEVENT
UID:6fe6f1ea-6bbf-4b38-b31e-8f817d5b38a2
DTSTAMP:20260420T111657Z
DESCRIPTION:Save the DATE for the 2025 Great Fitchburg City Cleanups! Join 
 us to clean our streets and parks of litter and debris. Please bring frien
 ds with work gloves and a helping hand. We provide bags\, Plastic gloves a
 nd disposal. City Cleanups and Events are 8AM - 12PM \n\nMeet up: BAC/Stan
 ley park\, 1 Simonds Rd
DTSTART;TZID=America/New_York:20250510T080000
DTEND;TZID=America/New_York:20250510T120000
LOCATION:Fitchburg\, MA
SUMMARY:Great Fitchburg City Cleanup
END:VEVENT
END:VCALENDAR
