BEGIN:VCALENDAR
VERSION:2.0
PRODID:-//keepmassbeautiful.org//NONSGML kigkonsult.se iCalcreator 2.30.10/
 /
CALSCALE:GREGORIAN
METHOD:PUBLISH
UID:0c01b002-f0d1-4756-958d-dd179c633ad4
X-WR-CALDESC:Join us for a day of community\, fresh air\, and making a real
  difference! The Greenwood PTO and Warrior Clean Up Crew are teaming up to
  refresh and revitalize Greenwood Elementary School. Grab your gloves\, br
 ing your energy\, and help us clear away litter to create a cleaner\, gree
 ner space for our kids and community. \n\nMeet up at Greenwood Elementary 
 School (1030 Main Street\, Wakefield)
X-WR-RELCALID:16d54f1d2df06b99d04725fe164e833e
X-WR-TIMEZONE:America/New_York
BEGIN:VTIMEZONE
TZID:America/New_York
BEGIN:STANDARD
TZNAME:EST
DTSTART:20241103T020000
TZOFFSETFROM:-0400
TZOFFSETTO:-0500
RDATE:20251102T020000
RDATE:20261101T020000
END:STANDARD
BEGIN:DAYLIGHT
TZNAME:EDT
DTSTART:20250309T020000
TZOFFSETFROM:-0500
TZOFFSETTO:-0400
RDATE:20260308T020000
END:DAYLIGHT
END:VTIMEZONE
BEGIN:VEVENT
UID:8b5ce5c5-e138-482f-9072-2c1593578679
DTSTAMP:20260420T110945Z
DESCRIPTION:Join us for a day of community\, fresh air\, and making a real 
 difference! The Greenwood PTO and Warrior Clean Up Crew are teaming up to 
 refresh and revitalize Greenwood Elementary School. Grab your gloves\, bri
 ng your energy\, and help us clear away litter to create a cleaner\, green
 er space for our kids and community. \n\nMeet up at Greenwood Elementary S
 chool (1030 Main Street\, Wakefield)
DTSTART;TZID=America/New_York:20250510T100000
DTEND;TZID=America/New_York:20250510T120000
LOCATION:Wakefield\, MA
SUMMARY:Greenwood Spring Cleanup (Wakefield)
END:VEVENT
END:VCALENDAR
