BEGIN:VCALENDAR
VERSION:2.0
PRODID:-//keepmassbeautiful.org//NONSGML kigkonsult.se iCalcreator 2.30.10/
 /
CALSCALE:GREGORIAN
METHOD:PUBLISH
UID:f92d931a-d8f1-4b38-9533-f4e03c1404dd
X-WR-CALDESC:Join us on Thursday\, May 15\, 2025\, from 6 p.m. to 9 p.m. as
  we recognize our latest honorees. This highly anticipated annual celebrat
 ion will feature delicious food\, drink\, entertainment\, and good clean f
 un!  \n\nThe Massachusetts Clean Community Awards recognize Massachusetts 
 residents\, nonprofits\, government leaders\, and businesses for exception
 al environmental protection and community cleanup efforts.\n\nWe are happy
  to announce that WCVB Chief Meteorologist Cindy Fitzgibbon will again ser
 ve as our emcee!\n\nSchedule of Events:\n\n6:00-9:00: Passed hors d'oeuvre
 s\, small plates\, desserts\, adult beverages\, conversation\, and music.
 \n\n7:00 -8:00 Awards presentations\n\nClick the link above right to 'Rese
 rve Your Tickets Now.' Tickets are $50 in advance and $60 at the door. \n
 \nLocation: Village Hall on the Common\, 2 Oak Street\, Framingham MA 0170
 1\n\nSponsorship opportunities are available! Contact us at neil@keepmassb
 eautiful.org if your business would like to participate as a business spon
 sor.
X-WR-RELCALID:644c58733059855776b37431b2e8620e
X-WR-TIMEZONE:America/New_York
BEGIN:VTIMEZONE
TZID:America/New_York
BEGIN:STANDARD
TZNAME:EST
DTSTART:20241103T020000
TZOFFSETFROM:-0400
TZOFFSETTO:-0500
RDATE:20251102T020000
RDATE:20261101T020000
END:STANDARD
BEGIN:DAYLIGHT
TZNAME:EDT
DTSTART:20250309T020000
TZOFFSETFROM:-0500
TZOFFSETTO:-0400
RDATE:20260308T020000
END:DAYLIGHT
END:VTIMEZONE
BEGIN:VEVENT
UID:f04ba284-9aaf-4d7f-8bd5-0ab6f7600a3b
DTSTAMP:20260420T110838Z
DESCRIPTION:Join us on Thursday\, May 15\, 2025\, from 6 p.m. to 9 p.m. as 
 we recognize our latest honorees. This highly anticipated annual celebrati
 on will feature delicious food\, drink\, entertainment\, and good clean fu
 n!  \n\nThe Massachusetts Clean Community Awards recognize Massachusetts r
 esidents\, nonprofits\, government leaders\, and businesses for exceptiona
 l environmental protection and community cleanup efforts.\n\nWe are happy 
 to announce that WCVB Chief Meteorologist Cindy Fitzgibbon will again serv
 e as our emcee!\n\nSchedule of Events:\n\n6:00-9:00: Passed hors d'oeuvres
 \, small plates\, desserts\, adult beverages\, conversation\, and music.\n
 \n7:00 -8:00 Awards presentations\n\nClick the link above right to 'Reserv
 e Your Tickets Now.' Tickets are $50 in advance and $60 at the door. \n\nL
 ocation: Village Hall on the Common\, 2 Oak Street\, Framingham MA 01701\n
 \nSponsorship opportunities are available! Contact us at neil@keepmassbeau
 tiful.org if your business would like to participate as a business sponsor
 .
DTSTART;TZID=America/New_York:20250515T180000
DTEND;TZID=America/New_York:20250515T210000
LOCATION:Village Hall on the Common \, 2 Oak Street\, Framingham\, MA 01701
  US
SUMMARY:Massachusetts Clean Community Awards Celebration
END:VEVENT
END:VCALENDAR
