BEGIN:VCALENDAR
VERSION:2.0
PRODID:-//keepmassbeautiful.org//NONSGML kigkonsult.se iCalcreator 2.30.10/
 /
CALSCALE:GREGORIAN
METHOD:PUBLISH
UID:09a46fec-e6a2-40ee-8073-e90c7e95dd42
X-WR-CALDESC:Please join our Dedham Clean-up team for a much needed Cleanup
  along Providence Highway. The area we will focus on goes from Dunkin' tow
 ards the road behind Best Buy leading towards Eastern Avenue. A lot of gar
 bage has accumulated here over the last several years. \n\nWe will meet in
  the Dunkin’ parking area on Providence Highway next to the Tesla dealersh
 ip
X-WR-RELCALID:d40fd05ceb51f66d68a35048c3b79436
X-WR-TIMEZONE:America/New_York
BEGIN:VTIMEZONE
TZID:America/New_York
BEGIN:STANDARD
TZNAME:EST
DTSTART:20241103T020000
TZOFFSETFROM:-0400
TZOFFSETTO:-0500
RDATE:20251102T020000
RDATE:20261101T020000
END:STANDARD
BEGIN:DAYLIGHT
TZNAME:EDT
DTSTART:20250309T020000
TZOFFSETFROM:-0500
TZOFFSETTO:-0400
RDATE:20260308T020000
END:DAYLIGHT
END:VTIMEZONE
BEGIN:VEVENT
UID:4589531f-878a-4fe1-81fa-d464c5309875
DTSTAMP:20260420T144741Z
DESCRIPTION:Please join our Dedham Clean-up team for a much needed Cleanup 
 along Providence Highway. The area we will focus on goes from Dunkin' towa
 rds the road behind Best Buy leading towards Eastern Avenue. A lot of garb
 age has accumulated here over the last several years. \n\nWe will meet in 
 the Dunkin’ parking area on Providence Highway next to the Tesla dealershi
 p
DTSTART;TZID=America/New_York:20250517T090000
DTEND;TZID=America/New_York:20250517T120000
LOCATION:Dedham\, MA
SUMMARY:Dedham Spring Cleanup!
END:VEVENT
END:VCALENDAR
