BEGIN:VCALENDAR
VERSION:2.0
PRODID:-//keepmassbeautiful.org//NONSGML kigkonsult.se iCalcreator 2.30.10/
 /
CALSCALE:GREGORIAN
METHOD:PUBLISH
UID:712fb5bf-dc8a-41c2-927d-6b14cf03418c
X-WR-CALDESC:Join Seaside Sustainability and the North Shore Garden Club in
  a community coastal cleanup event at Stage Fort Park in Gloucester! \n\nM
 eet Location: Stage Fort Park\, Gloucester\, MA (at the Stage Fort Park Ba
 ndstand)
X-WR-RELCALID:967a1c1c08e8e9c5c8aad14164921210
X-WR-TIMEZONE:America/New_York
BEGIN:VTIMEZONE
TZID:America/New_York
BEGIN:STANDARD
TZNAME:EST
DTSTART:20241103T020000
TZOFFSETFROM:-0400
TZOFFSETTO:-0500
RDATE:20251102T020000
RDATE:20261101T020000
END:STANDARD
BEGIN:DAYLIGHT
TZNAME:EDT
DTSTART:20250309T020000
TZOFFSETFROM:-0500
TZOFFSETTO:-0400
RDATE:20260308T020000
END:DAYLIGHT
END:VTIMEZONE
BEGIN:VEVENT
UID:dcef33ed-0b99-4858-98a5-04f3bd51214f
DTSTAMP:20260420T103958Z
DESCRIPTION:Join Seaside Sustainability and the North Shore Garden Club in 
 a community coastal cleanup event at Stage Fort Park in Gloucester! \n\nMe
 et Location: Stage Fort Park\, Gloucester\, MA (at the Stage Fort Park Ban
 dstand)
DTSTART;TZID=America/New_York:20250518T090000
DTEND;TZID=America/New_York:20250518T110000
LOCATION:Gloucester\, MA
SUMMARY:North Shore Garden Club Community Coastal Cleanup (Gloucester)
END:VEVENT
END:VCALENDAR
