BEGIN:VCALENDAR
VERSION:2.0
PRODID:-//keepmassbeautiful.org//NONSGML kigkonsult.se iCalcreator 2.30.10/
 /
CALSCALE:GREGORIAN
METHOD:PUBLISH
UID:c955409d-3f42-4874-bbc4-0edbe849a60e
X-WR-CALDESC:Join KNB volunteers as we clean up this heavily-used area\, in
 cluding the field\, bleachers and parking lot at Memorial Field. Let’s lea
 ve it much cleaner than we found it! \n\nMeet up location: Natick Football
  Parking Windsor Ave at West St
X-WR-RELCALID:6511941b47b2431deb696d953f3b258d
X-WR-TIMEZONE:America/New_York
BEGIN:VTIMEZONE
TZID:America/New_York
BEGIN:STANDARD
TZNAME:EST
DTSTART:20241103T020000
TZOFFSETFROM:-0400
TZOFFSETTO:-0500
RDATE:20251102T020000
RDATE:20261101T020000
END:STANDARD
BEGIN:DAYLIGHT
TZNAME:EDT
DTSTART:20250309T020000
TZOFFSETFROM:-0500
TZOFFSETTO:-0400
RDATE:20260308T020000
END:DAYLIGHT
END:VTIMEZONE
BEGIN:VEVENT
UID:0bd05456-2195-4a23-ad99-d2fe18a319bb
DTSTAMP:20260420T110755Z
DESCRIPTION:Join KNB volunteers as we clean up this heavily-used area\, inc
 luding the field\, bleachers and parking lot at Memorial Field. Let’s leav
 e it much cleaner than we found it! \n\nMeet up location: Natick Football 
 Parking Windsor Ave at West St
DTSTART;TZID=America/New_York:20250518T090000
DTEND;TZID=America/New_York:20250518T110000
LOCATION:Natick High School Memorial Field
SUMMARY:Pre-Memorial Day Cleanup (Natick)
END:VEVENT
END:VCALENDAR
