BEGIN:VCALENDAR
VERSION:2.0
PRODID:-//keepmassbeautiful.org//NONSGML kigkonsult.se iCalcreator 2.30.10/
 /
CALSCALE:GREGORIAN
METHOD:PUBLISH
UID:316e17a3-01d8-4c16-b0a7-1d4f3729a439
X-WR-CALDESC:Amesbury Green Team is joining the Keep Massachusetts Beautifu
 l family! Meet us for our first Keep Amesbury Beautiful community litter c
 leanup on May 22nd from 6:30–7:30 PM. We’ll provide bags\, gloves\, and go
 od vibes—just bring your energy and grabbers if you have them. All ages we
 lcome! Help us make a difference in just one hour! Meeting spot: Library G
 azebo Cleanup starts at 6:30 PM sharp! \n\nMeet up: Amesbury Public Librar
 y Gazebo
X-WR-RELCALID:a44140e1f7a6c202496f3ca787477545
X-WR-TIMEZONE:America/New_York
BEGIN:VTIMEZONE
TZID:America/New_York
BEGIN:STANDARD
TZNAME:EST
DTSTART:20241103T020000
TZOFFSETFROM:-0400
TZOFFSETTO:-0500
RDATE:20251102T020000
RDATE:20261101T020000
END:STANDARD
BEGIN:DAYLIGHT
TZNAME:EDT
DTSTART:20250309T020000
TZOFFSETFROM:-0500
TZOFFSETTO:-0400
RDATE:20260308T020000
END:DAYLIGHT
END:VTIMEZONE
BEGIN:VEVENT
UID:8ef8257d-c7e2-48c0-be99-788e27b2963d
DTSTAMP:20260420T110837Z
DESCRIPTION:Amesbury Green Team is joining the Keep Massachusetts Beautiful
  family! Meet us for our first Keep Amesbury Beautiful community litter cl
 eanup on May 22nd from 6:30–7:30 PM. We’ll provide bags\, gloves\, and goo
 d vibes—just bring your energy and grabbers if you have them. All ages wel
 come! Help us make a difference in just one hour! Meeting spot: Library Ga
 zebo Cleanup starts at 6:30 PM sharp! \n\nMeet up: Amesbury Public Library
  Gazebo
DTSTART;TZID=America/New_York:20250522T183000
DTEND;TZID=America/New_York:20250522T193000
LOCATION:amesbury\, MA
SUMMARY:Keep Amesbury Beautiful Kick Off Cleanup
END:VEVENT
END:VCALENDAR
