BEGIN:VCALENDAR
VERSION:2.0
PRODID:-//keepmassbeautiful.org//NONSGML kigkonsult.se iCalcreator 2.30.10/
 /
CALSCALE:GREGORIAN
METHOD:PUBLISH
UID:ff79800d-005e-418e-9243-c0fcec4611be
X-WR-CALDESC:Come join Keep Barnstable Beautiful\, along with your family\,
  friends\, co-workers and neighbors to give the Town of Barnstable a thoro
 ugh Pre-Summer cleaning! \n\nMeet up location: 2095 Main Street Marstons M
 ills\, MA
X-WR-RELCALID:9e30e331ba49d1b727dc6a6ea66e7cc5
X-WR-TIMEZONE:America/New_York
BEGIN:VTIMEZONE
TZID:America/New_York
BEGIN:STANDARD
TZNAME:EST
DTSTART:20241103T020000
TZOFFSETFROM:-0400
TZOFFSETTO:-0500
RDATE:20251102T020000
RDATE:20261101T020000
END:STANDARD
BEGIN:DAYLIGHT
TZNAME:EDT
DTSTART:20250309T020000
TZOFFSETFROM:-0500
TZOFFSETTO:-0400
RDATE:20260308T020000
END:DAYLIGHT
END:VTIMEZONE
BEGIN:VEVENT
UID:312074de-c3d4-454c-a649-7a517ef3bf78
DTSTAMP:20260420T111425Z
DESCRIPTION:Come join Keep Barnstable Beautiful\, along with your family\, 
 friends\, co-workers and neighbors to give the Town of Barnstable a thorou
 gh Pre-Summer cleaning! \n\nMeet up location: 2095 Main Street Marstons Mi
 lls\, MA
DTSTART;TZID=America/New_York:20250531T100000
DTEND;TZID=America/New_York:20250531T130000
LOCATION:Barnstable\, MA
SUMMARY:Town of Barnstable Pre-Summer Cleanup
END:VEVENT
END:VCALENDAR
