BEGIN:VCALENDAR
VERSION:2.0
PRODID:-//keepmassbeautiful.org//NONSGML kigkonsult.se iCalcreator 2.30.10/
 /
CALSCALE:GREGORIAN
METHOD:PUBLISH
UID:3967355c-e3b7-436b-afc9-96c8755f0abb
X-WR-CALDESC:Join us on June 7th as we clean up the Wrentham Developmental 
 Center! You walk your dogs there. Your kids ride their bikes there. You fl
 y a kite there. Now you can help us pick up trash there! What to bring: En
 thusiasm! What we'll provide: hi-viz vests\, gloves\, trash grabbers\, and
  bags! \n\nMeeting Location: parking lot at the corner of Greeley St and P
 atterson St in the Developmental Center grounds.
X-WR-RELCALID:5330ba330e53e17eb3d8d26ea86a5a6f
X-WR-TIMEZONE:America/New_York
BEGIN:VTIMEZONE
TZID:America/New_York
BEGIN:STANDARD
TZNAME:EST
DTSTART:20241103T020000
TZOFFSETFROM:-0400
TZOFFSETTO:-0500
RDATE:20251102T020000
RDATE:20261101T020000
END:STANDARD
BEGIN:DAYLIGHT
TZNAME:EDT
DTSTART:20250309T020000
TZOFFSETFROM:-0500
TZOFFSETTO:-0400
RDATE:20260308T020000
END:DAYLIGHT
END:VTIMEZONE
BEGIN:VEVENT
UID:8061c71a-404b-40f0-98c5-115d20a20434
DTSTAMP:20260420T092307Z
DESCRIPTION:Join us on June 7th as we clean up the Wrentham Developmental C
 enter! You walk your dogs there. Your kids ride their bikes there. You fly
  a kite there. Now you can help us pick up trash there! What to bring: Ent
 husiasm! What we'll provide: hi-viz vests\, gloves\, trash grabbers\, and 
 bags! \n\nMeeting Location: parking lot at the corner of Greeley St and Pa
 tterson St in the Developmental Center grounds.
DTSTART;TZID=America/New_York:20250607T080000
DTEND;TZID=America/New_York:20250607T100000
LOCATION:Wrentham\, MA
SUMMARY:Community Cleanup at Wrentham Developmental Center
END:VEVENT
END:VCALENDAR
