BEGIN:VCALENDAR
VERSION:2.0
PRODID:-//keepmassbeautiful.org//NONSGML kigkonsult.se iCalcreator 2.30.10/
 /
CALSCALE:GREGORIAN
METHOD:PUBLISH
UID:98edc52e-19f4-4d67-9155-a51cb95cc59d
X-WR-CALDESC:Historic 6 Acre Palmer Island in New Bedford is located on the
  inner harbor and includes a scenic light house. Free coffee and donuts an
 d free Pizza. Gloves and all tools are provided. \n\nMeet up location:  Gi
 fford Street\, New Bedford
X-WR-RELCALID:57d771a38cbeb9c3f7dc50f313654868
X-WR-TIMEZONE:America/New_York
BEGIN:VTIMEZONE
TZID:America/New_York
BEGIN:STANDARD
TZNAME:EST
DTSTART:20241103T020000
TZOFFSETFROM:-0400
TZOFFSETTO:-0500
RDATE:20251102T020000
RDATE:20261101T020000
END:STANDARD
BEGIN:DAYLIGHT
TZNAME:EDT
DTSTART:20250309T020000
TZOFFSETFROM:-0500
TZOFFSETTO:-0400
RDATE:20260308T020000
END:DAYLIGHT
END:VTIMEZONE
BEGIN:VEVENT
UID:2ba9bb3c-aec1-48f0-ba5d-579c759ddee8
DTSTAMP:20260420T091100Z
DESCRIPTION:Historic 6 Acre Palmer Island in New Bedford is located on the 
 inner harbor and includes a scenic light house. Free coffee and donuts and
  free Pizza. Gloves and all tools are provided. \n\nMeet up location:  Gif
 ford Street\, New Bedford
DTSTART;TZID=America/New_York:20250607T090000
DTEND;TZID=America/New_York:20250607T120000
LOCATION:New Bedford\, MA
SUMMARY:Operation Clean Sweep (New Bedford)
END:VEVENT
END:VCALENDAR
