BEGIN:VCALENDAR
VERSION:2.0
PRODID:-//keepmassbeautiful.org//NONSGML kigkonsult.se iCalcreator 2.30.10/
 /
CALSCALE:GREGORIAN
METHOD:PUBLISH
UID:b0ec4638-51a5-4f28-b0f7-0d35366f6e14
X-WR-CALDESC:To remind everyone of the major role the oceans play in everyd
 ay life. They are the lungs of our planet and a major source of food and m
 edicine and a critical part of the biosphere. The purpose of the day is to
  inform the public of the impact of human actions on the ocean\, develop a
  worldwide movement of citizens for the ocean\, and mobilize and unite the
  world’s population on a project for the sustainable management of the wor
 ld's oceans.\n
X-WR-RELCALID:ccb55f96e7c5b621f3d052ff95fbf733
X-WR-TIMEZONE:America/New_York
BEGIN:VTIMEZONE
TZID:America/New_York
BEGIN:STANDARD
TZNAME:EST
DTSTART:20241103T020000
TZOFFSETFROM:-0400
TZOFFSETTO:-0500
RDATE:20251102T020000
RDATE:20261101T020000
END:STANDARD
BEGIN:DAYLIGHT
TZNAME:EDT
DTSTART:20250309T020000
TZOFFSETFROM:-0500
TZOFFSETTO:-0400
RDATE:20260308T020000
END:DAYLIGHT
END:VTIMEZONE
BEGIN:VEVENT
UID:e33bfdcb-7979-417c-9126-1513de360804
DTSTAMP:20260420T124625Z
DESCRIPTION:To remind everyone of the major role the oceans play in everyda
 y life. They are the lungs of our planet and a major source of food and me
 dicine and a critical part of the biosphere. The purpose of the day is to 
 inform the public of the impact of human actions on the ocean\, develop a 
 worldwide movement of citizens for the ocean\, and mobilize and unite the 
 world’s population on a project for the sustainable management of the worl
 d's oceans.\n
DTSTART;TZID=America/New_York:20250608T000000
DTEND;TZID=America/New_York:20250608T235900
LOCATION:
SUMMARY:World Oceans Day
END:VEVENT
END:VCALENDAR
