BEGIN:VCALENDAR
VERSION:2.0
PRODID:-//keepmassbeautiful.org//NONSGML kigkonsult.se iCalcreator 2.30.10/
 /
CALSCALE:GREGORIAN
METHOD:PUBLISH
UID:9c5c0d7d-6aab-4940-be0f-d6cf3ab2bbf0
X-WR-CALDESC:Wakefield's Recycling & Sustainability Day is BACK! Saturday\,
  June 14\, 2025 9AM-12PM | Wakefield Memorial High School Join the Warrior
  Clean Up Crew for a community litter cleanup — we'll provide gloves\, bag
 s\, and grabbers! bY Recycle electronics\, Styrofoam & more Donate to Habi
 tat for Humanity V Learn about solar & sustainability programs V Drop off 
 dehumidifiers (for free!) v Connect with local green groups Bring used spo
 rts gear\, school supplies\, & coffee pods! Let's clean up\, recycle right
 .\n\nMeet Up Location: Wakefield Memorial High School
X-WR-RELCALID:058d576dd960c6cbcbc8555bd5c04884
X-WR-TIMEZONE:America/New_York
BEGIN:VTIMEZONE
TZID:America/New_York
BEGIN:STANDARD
TZNAME:EST
DTSTART:20241103T020000
TZOFFSETFROM:-0400
TZOFFSETTO:-0500
RDATE:20251102T020000
RDATE:20261101T020000
END:STANDARD
BEGIN:DAYLIGHT
TZNAME:EDT
DTSTART:20250309T020000
TZOFFSETFROM:-0500
TZOFFSETTO:-0400
RDATE:20260308T020000
END:DAYLIGHT
END:VTIMEZONE
BEGIN:VEVENT
UID:a8e9c547-3445-4998-8818-c7c9414eb46a
DTSTAMP:20260420T093445Z
DESCRIPTION:Wakefield's Recycling & Sustainability Day is BACK! Saturday\, 
 June 14\, 2025 9AM-12PM | Wakefield Memorial High School Join the Warrior 
 Clean Up Crew for a community litter cleanup — we'll provide gloves\, bags
 \, and grabbers! bY Recycle electronics\, Styrofoam & more Donate to Habit
 at for Humanity V Learn about solar & sustainability programs V Drop off d
 ehumidifiers (for free!) v Connect with local green groups Bring used spor
 ts gear\, school supplies\, & coffee pods! Let's clean up\, recycle right.
 \n\nMeet Up Location: Wakefield Memorial High School
DTSTART;TZID=America/New_York:20250614T090000
DTEND;TZID=America/New_York:20250614T120000
LOCATION:Wakefield\, MA
SUMMARY:Wakefield Recycling & Sustainability Day
END:VEVENT
END:VCALENDAR
