BEGIN:VCALENDAR
VERSION:2.0
PRODID:-//keepmassbeautiful.org//NONSGML kigkonsult.se iCalcreator 2.30.10/
 /
CALSCALE:GREGORIAN
METHOD:PUBLISH
UID:11d08f78-e358-415a-8ed8-c2a73506b44d
X-WR-CALDESC:Melrose Earth Week Community Cleanup! Our annual spring cleanu
 p has been rescheduled to Saturday\, June 21\, 9 am – 12 noon. Keep Melros
 e Beautiful is teaming with Melrose Energy Challenge\, Zero Waste Melrose\
 , and the Melrose High School Environmental Club to sponsor the event. Ple
 ase sign up on behalf of your family\, school\, club\, sports team\, or wo
 rkplace. You will receive an email prior to the 21st with everything you n
 eed to know to make it a great day! \n\nMeet up at Melrose City Hall on Ma
 in Street
X-WR-RELCALID:1c9f62d49c61c411aec8f3e84ba46332
X-WR-TIMEZONE:America/New_York
BEGIN:VTIMEZONE
TZID:America/New_York
BEGIN:STANDARD
TZNAME:EST
DTSTART:20241103T020000
TZOFFSETFROM:-0400
TZOFFSETTO:-0500
RDATE:20251102T020000
RDATE:20261101T020000
END:STANDARD
BEGIN:DAYLIGHT
TZNAME:EDT
DTSTART:20250309T020000
TZOFFSETFROM:-0500
TZOFFSETTO:-0400
RDATE:20260308T020000
END:DAYLIGHT
END:VTIMEZONE
BEGIN:VEVENT
UID:2033a926-8411-4730-87fd-3eaa00dae84e
DTSTAMP:20260420T123939Z
DESCRIPTION:Melrose Earth Week Community Cleanup! Our annual spring cleanup
  has been rescheduled to Saturday\, June 21\, 9 am – 12 noon. Keep Melrose
  Beautiful is teaming with Melrose Energy Challenge\, Zero Waste Melrose\,
  and the Melrose High School Environmental Club to sponsor the event. Plea
 se sign up on behalf of your family\, school\, club\, sports team\, or wor
 kplace. You will receive an email prior to the 21st with everything you ne
 ed to know to make it a great day! \n\nMeet up at Melrose City Hall on Mai
 n Street
DTSTART;TZID=America/New_York:20250621T090000
DTEND;TZID=America/New_York:20250621T120000
LOCATION:Melrose\, MA
SUMMARY:Melrose Earth Week Community Cleanup
END:VEVENT
END:VCALENDAR
