BEGIN:VCALENDAR
VERSION:2.0
PRODID:-//keepmassbeautiful.org//NONSGML kigkonsult.se iCalcreator 2.30.10/
 /
CALSCALE:GREGORIAN
METHOD:PUBLISH
UID:dec22b54-d41f-43b2-8c57-f00d5cee7d2b
X-WR-CALDESC:Mass EcoFest aims to be a celebratory day dedicated to honorin
 g our Earth while highlighting local makers\, vendors\, individuals\, and 
 organizations leading the charge against plastic pollution in Massachusett
 s.\n\nThe event will feature an array of activities\, including music\, fa
 mily-friendly entertainment\, and a variety of food trucks serving up deli
 cious fare. The event will showcase local businesses that champion sustain
 ability through practices such as precycling\, using natural materials\, a
 nd upcycling existing resources.
X-WR-RELCALID:6e1200ae72d1652520e7f63268bea32a
X-WR-TIMEZONE:America/New_York
BEGIN:VTIMEZONE
TZID:America/New_York
BEGIN:STANDARD
TZNAME:EST
DTSTART:20241103T020000
TZOFFSETFROM:-0400
TZOFFSETTO:-0500
RDATE:20251102T020000
RDATE:20261101T020000
END:STANDARD
BEGIN:DAYLIGHT
TZNAME:EDT
DTSTART:20250309T020000
TZOFFSETFROM:-0500
TZOFFSETTO:-0400
RDATE:20260308T020000
END:DAYLIGHT
END:VTIMEZONE
BEGIN:VEVENT
UID:36e916d9-27f5-4c73-b3c7-fa42090e6244
DTSTAMP:20260420T092307Z
DESCRIPTION:Mass EcoFest aims to be a celebratory day dedicated to honoring
  our Earth while highlighting local makers\, vendors\, individuals\, and o
 rganizations leading the charge against plastic pollution in Massachusetts
 .\n\nThe event will feature an array of activities\, including music\, fam
 ily-friendly entertainment\, and a variety of food trucks serving up delic
 ious fare. The event will showcase local businesses that champion sustaina
 bility through practices such as precycling\, using natural materials\, an
 d upcycling existing resources.
DTSTART;TZID=America/New_York:20250628T100000
DTEND;TZID=America/New_York:20250628T160000
LOCATION:Salem\, MA
SUMMARY:Mass Eco Fest (Salem\, MA)
END:VEVENT
END:VCALENDAR
