BEGIN:VCALENDAR
VERSION:2.0
PRODID:-//keepmassbeautiful.org//NONSGML kigkonsult.se iCalcreator 2.30.10/
 /
CALSCALE:GREGORIAN
METHOD:PUBLISH
UID:658b51f3-21b6-4fd7-8496-7096e5f419cd
X-WR-CALDESC:Clean your street\, or a street in need. Free supplies to help
  and green bags to leave at your door for the haulers to grab! \n\nSign up
  sheets at the Townsend Library
X-WR-RELCALID:85529664153b077fab2292e9bec12bb6
X-WR-TIMEZONE:America/New_York
BEGIN:VTIMEZONE
TZID:America/New_York
BEGIN:STANDARD
TZNAME:EST
DTSTART:20251102T020000
TZOFFSETFROM:-0400
TZOFFSETTO:-0500
RDATE:20261101T020000
END:STANDARD
BEGIN:DAYLIGHT
TZNAME:EDT
DTSTART:20260308T020000
TZOFFSETFROM:-0500
TZOFFSETTO:-0400
RDATE:20270314T020000
END:DAYLIGHT
END:VTIMEZONE
BEGIN:VEVENT
UID:8345b371-e5e9-4056-9a1b-86de5308928b
DTSTAMP:20260421T090342Z
DESCRIPTION:Clean your street\, or a street in need. Free supplies to help 
 and green bags to leave at your door for the haulers to grab! \n\nSign up 
 sheets at the Townsend Library
DTSTART;TZID=America/New_York:20260414T060000
DTEND;TZID=America/New_York:20260425T060001
LOCATION:Townsend\, MA
SUMMARY:7th Townsend Annual Town-Wide CleanUp
END:VEVENT
END:VCALENDAR
