BEGIN:VCALENDAR
VERSION:2.0
PRODID:-//keepmassbeautiful.org//NONSGML kigkonsult.se iCalcreator 2.30.10/
 /
CALSCALE:GREGORIAN
METHOD:PUBLISH
UID:48ebfc93-bb78-4718-9be2-1ca8e13b9933
X-WR-CALDESC:Now's your chance to make Billerica shine. Sign up for a spot 
 or pick your own. \n\nEach person who signs up will select a spot in Bille
 rica. \n\n
X-WR-RELCALID:7d4385281e126babff132806c5a84b5c
X-WR-TIMEZONE:America/New_York
BEGIN:VTIMEZONE
TZID:America/New_York
BEGIN:STANDARD
TZNAME:EST
DTSTART:20251102T020000
TZOFFSETFROM:-0400
TZOFFSETTO:-0500
RDATE:20261101T020000
END:STANDARD
BEGIN:DAYLIGHT
TZNAME:EDT
DTSTART:20260308T020000
TZOFFSETFROM:-0500
TZOFFSETTO:-0400
RDATE:20270314T020000
END:DAYLIGHT
END:VTIMEZONE
BEGIN:VEVENT
UID:2ccc4834-2b37-4d5e-9f4d-ec5b62c6d05d
DTSTAMP:20260422T134449Z
DESCRIPTION:Now's your chance to make Billerica shine. Sign up for a spot o
 r pick your own. \n\nEach person who signs up will select a spot in Biller
 ica. \n\n
DTSTART;TZID=America/New_York:20260418T060000
DTEND;TZID=America/New_York:20260425T060001
LOCATION:Billerica\, MA
SUMMARY:Billerica Clean Up Green Up 2026
END:VEVENT
END:VCALENDAR
