BEGIN:VCALENDAR
VERSION:2.0
PRODID:-//keepmassbeautiful.org//NONSGML kigkonsult.se iCalcreator 2.30.10/
 /
CALSCALE:GREGORIAN
METHOD:PUBLISH
UID:dfecae97-2578-4b04-883d-eaf171f7ee53
X-WR-CALDESC:Join Chelmsford’s Annual Town-Wide Cleanup by helping to pick 
 up litter along Chelmsford’s roads\, neighborhoods\, parks\, and recreatio
 n areas!\n\nPlease pick up litter from your street\, park\, or any area th
 at needs it.
X-WR-RELCALID:5278e0bb6203aa54326b6ba86426a57e
X-WR-TIMEZONE:America/New_York
BEGIN:VTIMEZONE
TZID:America/New_York
BEGIN:STANDARD
TZNAME:EST
DTSTART:20251102T020000
TZOFFSETFROM:-0400
TZOFFSETTO:-0500
RDATE:20261101T020000
END:STANDARD
BEGIN:DAYLIGHT
TZNAME:EDT
DTSTART:20260308T020000
TZOFFSETFROM:-0500
TZOFFSETTO:-0400
RDATE:20270314T020000
END:DAYLIGHT
END:VTIMEZONE
BEGIN:VEVENT
UID:eb0f4798-4d9d-4a8b-b789-2e70b336be18
DTSTAMP:20260424T115018Z
DESCRIPTION:Join Chelmsford’s Annual Town-Wide Cleanup by helping to pick u
 p litter along Chelmsford’s roads\, neighborhoods\, parks\, and recreation
  areas!\n\nPlease pick up litter from your street\, park\, or any area tha
 t needs it.
DTSTART;TZID=America/New_York:20260419T060000
DTEND;TZID=America/New_York:20260425T060001
LOCATION:Chelmsford\, MA
SUMMARY:Chelmsford Town-Wide Cleanup
END:VEVENT
END:VCALENDAR
