BEGIN:VCALENDAR
VERSION:2.0
PRODID:-//keepmassbeautiful.org//NONSGML kigkonsult.se iCalcreator 2.30.10/
 /
CALSCALE:GREGORIAN
METHOD:PUBLISH
UID:10f1314c-36d0-4310-b315-ced3f841e00c
X-WR-CALDESC:Annual Palmer Town Wide Cleanup - help Keep Palmer Beautiful 
 \n\nMeet up location: Hyrniewicz Park 37 Front St\, Three Rivers\, MA 0108
 0
X-WR-RELCALID:08608cc8a34dc90e597fd347b339022c
X-WR-TIMEZONE:America/New_York
BEGIN:VTIMEZONE
TZID:America/New_York
BEGIN:STANDARD
TZNAME:EST
DTSTART:20251102T020000
TZOFFSETFROM:-0400
TZOFFSETTO:-0500
RDATE:20261101T020000
END:STANDARD
BEGIN:DAYLIGHT
TZNAME:EDT
DTSTART:20260308T020000
TZOFFSETFROM:-0500
TZOFFSETTO:-0400
RDATE:20270314T020000
END:DAYLIGHT
END:VTIMEZONE
BEGIN:VEVENT
UID:eb4c936a-e9f7-49a8-a3f8-2527e50682b4
DTSTAMP:20260423T064626Z
DESCRIPTION:Annual Palmer Town Wide Cleanup - help Keep Palmer Beautiful \n
 \nMeet up location: Hyrniewicz Park 37 Front St\, Three Rivers\, MA 01080
DTSTART;TZID=America/New_York:20260425T090000
DTEND;TZID=America/New_York:20260425T130000
LOCATION:Palmer\, MA
SUMMARY:Palmer Town Wide Cleanup 2026
END:VEVENT
END:VCALENDAR
