BEGIN:VCALENDAR
VERSION:2.0
PRODID:-//keepmassbeautiful.org//NONSGML kigkonsult.se iCalcreator 2.30.10/
 /
CALSCALE:GREGORIAN
METHOD:PUBLISH
UID:20208112-4b85-42ab-a30c-908e8111d822
X-WR-CALDESC:By spending just a little time picking up litter in our neighb
 orhoods\, we can help keep our community clean\, safe\, and beautiful for 
 everyone. \n\nBag Pickup Locations (available on or after 4/24):  Upton To
 wn Library or Upton Town Hall \n\nAlternatively\, feel free to visit our t
 able outside the Upton Town Library on May 2nd 9AM-12PM\, where you can si
 gn up and pick up supplies\, such as bags\, gloves\, and pickers!
X-WR-RELCALID:06e139178e89503d758dad0af8082935
X-WR-TIMEZONE:America/New_York
BEGIN:VTIMEZONE
TZID:America/New_York
BEGIN:STANDARD
TZNAME:EST
DTSTART:20251102T020000
TZOFFSETFROM:-0400
TZOFFSETTO:-0500
RDATE:20261101T020000
END:STANDARD
BEGIN:DAYLIGHT
TZNAME:EDT
DTSTART:20260308T020000
TZOFFSETFROM:-0500
TZOFFSETTO:-0400
RDATE:20270314T020000
END:DAYLIGHT
END:VTIMEZONE
BEGIN:VEVENT
UID:c6b7958b-ec07-49c8-8530-afeeb0502128
DTSTAMP:20260423T062745Z
DESCRIPTION:By spending just a little time picking up litter in our neighbo
 rhoods\, we can help keep our community clean\, safe\, and beautiful for e
 veryone. \n\nBag Pickup Locations (available on or after 4/24):  Upton Tow
 n Library or Upton Town Hall \n\nAlternatively\, feel free to visit our ta
 ble outside the Upton Town Library on May 2nd 9AM-12PM\, where you can sig
 n up and pick up supplies\, such as bags\, gloves\, and pickers!
DTSTART;TZID=America/New_York:20260425T060000
DTEND;TZID=America/New_York:20260510T060001
LOCATION:Upton
SUMMARY:Upton Earth Day Cleanup
END:VEVENT
END:VCALENDAR
