BEGIN:VCALENDAR
VERSION:2.0
PRODID:-//keepmassbeautiful.org//NONSGML kigkonsult.se iCalcreator 2.30.10/
 /
CALSCALE:GREGORIAN
METHOD:PUBLISH
UID:d244333d-2c88-456e-b902-71a1f4ded5f8
X-WR-CALDESC:Yarmouth Community Cleanup Day. Volunteer to clean a beach\, t
 rail\, or street! \n\nMeet up location: Yarmouth Town Hall\, 1146 Route 28
 \, Yarmouth MA 02664
X-WR-RELCALID:6c7e7fb042489cee0d96df562fefca46
X-WR-TIMEZONE:America/New_York
BEGIN:VTIMEZONE
TZID:America/New_York
BEGIN:STANDARD
TZNAME:EST
DTSTART:20251102T020000
TZOFFSETFROM:-0400
TZOFFSETTO:-0500
RDATE:20261101T020000
END:STANDARD
BEGIN:DAYLIGHT
TZNAME:EDT
DTSTART:20260308T020000
TZOFFSETFROM:-0500
TZOFFSETTO:-0400
RDATE:20270314T020000
END:DAYLIGHT
END:VTIMEZONE
BEGIN:VEVENT
UID:f9be8668-464f-4bf4-adad-4f10d58a0f6f
DTSTAMP:20260425T175155Z
DESCRIPTION:Yarmouth Community Cleanup Day. Volunteer to clean a beach\, tr
 ail\, or street! \n\nMeet up location: Yarmouth Town Hall\, 1146 Route 28\
 , Yarmouth MA 02664
DTSTART;TZID=America/New_York:20260425T080000
DTEND;TZID=America/New_York:20260425T110000
LOCATION:Yarmouth\, MA
SUMMARY:Yarmouth Community Cleanup Day
END:VEVENT
END:VCALENDAR
