BEGIN:VCALENDAR
VERSION:2.0
PRODID:-//keepmassbeautiful.org//NONSGML kigkonsult.se iCalcreator 2.30.10/
 /
CALSCALE:GREGORIAN
METHOD:PUBLISH
UID:6264c5ef-8683-4c2b-a8c0-79ba49045dc6
X-WR-CALDESC:Join us to celebrate Earth Day at our first cleanup of the sea
 son. We are planning to clean up Story Ave and surrounding areas. More det
 ails coming soon\, check back for updated info Details: Parking: best park
 ing is along Colon St by the senior center\, some parking will also be ava
 ilable along story Ave and Dearborn St. some spots on Story Ave belong to 
 the housing residents\, please avoid those if possible. \n\nMeeting point:
  plan to meet at the intersection of Dearborn St and Story Ave.
X-WR-RELCALID:8ae633c9d358ab12b2e3d6fb7b37f944
X-WR-TIMEZONE:America/New_York
BEGIN:VTIMEZONE
TZID:America/New_York
BEGIN:STANDARD
TZNAME:EST
DTSTART:20251102T020000
TZOFFSETFROM:-0400
TZOFFSETTO:-0500
RDATE:20261101T020000
END:STANDARD
BEGIN:DAYLIGHT
TZNAME:EDT
DTSTART:20260308T020000
TZOFFSETFROM:-0500
TZOFFSETTO:-0400
RDATE:20270314T020000
END:DAYLIGHT
END:VTIMEZONE
BEGIN:VEVENT
UID:2c50512c-793a-44a5-b194-65800c57c98e
DTSTAMP:20260423T064540Z
DESCRIPTION:Join us to celebrate Earth Day at our first cleanup of the seas
 on. We are planning to clean up Story Ave and surrounding areas. More deta
 ils coming soon\, check back for updated info Details: Parking: best parki
 ng is along Colon St by the senior center\, some parking will also be avai
 lable along story Ave and Dearborn St. some spots on Story Ave belong to t
 he housing residents\, please avoid those if possible. \n\nMeeting point: 
 plan to meet at the intersection of Dearborn St and Story Ave.
DTSTART;TZID=America/New_York:20260426T120000
DTEND;TZID=America/New_York:20260426T140000
LOCATION:Beverly\, MA
SUMMARY:Beverly Earth Day Litter Cleanup
END:VEVENT
END:VCALENDAR
