BEGIN:VCALENDAR
VERSION:2.0
PRODID:-//keepmassbeautiful.org//NONSGML kigkonsult.se iCalcreator 2.30.10/
 /
CALSCALE:GREGORIAN
METHOD:PUBLISH
UID:edd9c835-bba0-484d-9888-7359eba45ab7
X-WR-CALDESC:
X-WR-RELCALID:97cdffe27f0ad5554f6cd120fbab28f8
X-WR-TIMEZONE:America/New_York
BEGIN:VTIMEZONE
TZID:America/New_York
BEGIN:STANDARD
TZNAME:EST
DTSTART:20251102T020000
TZOFFSETFROM:-0400
TZOFFSETTO:-0500
RDATE:20261101T020000
END:STANDARD
BEGIN:DAYLIGHT
TZNAME:EDT
DTSTART:20260308T020000
TZOFFSETFROM:-0500
TZOFFSETTO:-0400
RDATE:20270314T020000
END:DAYLIGHT
END:VTIMEZONE
BEGIN:VEVENT
UID:066170ce-bfae-4404-a179-701679e237cf
DTSTAMP:20260423T062556Z
DESCRIPTION:
DTSTART;TZID=America/New_York:20260426T100000
DTEND;TZID=America/New_York:20260426T133000
LOCATION:Norwood
SUMMARY:Norwood Earth Day
END:VEVENT
END:VCALENDAR
