BEGIN:VCALENDAR
VERSION:2.0
PRODID:-//keepmassbeautiful.org//NONSGML kigkonsult.se iCalcreator 2.30.10/
 /
CALSCALE:GREGORIAN
METHOD:PUBLISH
UID:06fbf1b3-4cc3-481d-ad86-54cd83947e97
X-WR-CALDESC:Join ipickupworcesterlitterverywell and Heartland Barber (Worc
 ester) as we pick up WorcesterLitter very well in the immediate neighborin
 g streets around Harris Court in Worcester. Follow @ipickupworcesterlitter
 verywell and @heartlandbarber on instagram from more info. Supplies includ
 ed to share. \n\nMeet up location: 78 Burncoat St\, Worcester\, MA 01605\n
 \n#ipickupworcesterlitterverywell  #cleanstreetscollective  #WorcesterMA
X-WR-RELCALID:6de5758548f319cbc73cccde4135428a
X-WR-TIMEZONE:America/New_York
BEGIN:VTIMEZONE
TZID:America/New_York
BEGIN:STANDARD
TZNAME:EST
DTSTART:20251102T020000
TZOFFSETFROM:-0400
TZOFFSETTO:-0500
RDATE:20261101T020000
END:STANDARD
BEGIN:DAYLIGHT
TZNAME:EDT
DTSTART:20260308T020000
TZOFFSETFROM:-0500
TZOFFSETTO:-0400
RDATE:20270314T020000
END:DAYLIGHT
END:VTIMEZONE
BEGIN:VEVENT
UID:ceef8e82-4acb-4dfc-88e9-1523a95e5ae6
DTSTAMP:20260423T062643Z
DESCRIPTION:Join ipickupworcesterlitterverywell and Heartland Barber (Worce
 ster) as we pick up WorcesterLitter very well in the immediate neighboring
  streets around Harris Court in Worcester. Follow @ipickupworcesterlitterv
 erywell and @heartlandbarber on instagram from more info. Supplies include
 d to share. \n\nMeet up location: 78 Burncoat St\, Worcester\, MA 01605\n
 \n#ipickupworcesterlitterverywell  #cleanstreetscollective  #WorcesterMA
DTSTART;TZID=America/New_York:20260503T100000
DTEND;TZID=America/New_York:20260503T130000
LOCATION:Worcester\, MA
SUMMARY:Heartland Barber Cleanup  (Worcester)
END:VEVENT
END:VCALENDAR
